BEGIN:VCALENDAR
VERSION:2.0
PRODID:-//www.pepple-waggoner.com - ECPv6.15.20//NONSGML v1.0//EN
CALSCALE:GREGORIAN
METHOD:PUBLISH
X-ORIGINAL-URL:https://pepple-waggoner.com
X-WR-CALDESC:Events for www.pepple-waggoner.com
REFRESH-INTERVAL;VALUE=DURATION:PT1H
X-Robots-Tag:noindex
X-PUBLISHED-TTL:PT1H
BEGIN:VTIMEZONE
TZID:America/New_York
BEGIN:DAYLIGHT
TZOFFSETFROM:-0500
TZOFFSETTO:-0400
TZNAME:EDT
DTSTART:20230312T070000
END:DAYLIGHT
BEGIN:STANDARD
TZOFFSETFROM:-0400
TZOFFSETTO:-0500
TZNAME:EST
DTSTART:20231105T060000
END:STANDARD
BEGIN:DAYLIGHT
TZOFFSETFROM:-0500
TZOFFSETTO:-0400
TZNAME:EDT
DTSTART:20240310T070000
END:DAYLIGHT
BEGIN:STANDARD
TZOFFSETFROM:-0400
TZOFFSETTO:-0500
TZNAME:EST
DTSTART:20241103T060000
END:STANDARD
BEGIN:DAYLIGHT
TZOFFSETFROM:-0500
TZOFFSETTO:-0400
TZNAME:EDT
DTSTART:20250309T070000
END:DAYLIGHT
BEGIN:STANDARD
TZOFFSETFROM:-0400
TZOFFSETTO:-0500
TZNAME:EST
DTSTART:20251102T060000
END:STANDARD
END:VTIMEZONE
BEGIN:VEVENT
DTSTART;VALUE=DATE:20240125
DTEND;VALUE=DATE:20240126
DTSTAMP:20260424T093959
CREATED:20231128T183836Z
LAST-MODIFIED:20231218T195327Z
UID:10000029-1706140800-1706227199@pepple-waggoner.com
SUMMARY:School Negotiations Workshops:  January 25\, 2024\, Holiday Inn\, Independence
DESCRIPTION:6001 Rockside Rd\, \nIndependence\, OH 44131 \nClick Here to View the Agenda \n\n\n                \n                        \n                             \n							"*" indicates required fields \n                        \n                        REGISTERIn three steps.STEP 1 OF 3 - Personal InformationFill out the form below to register for the seminar.This field is hidden when viewing the formEvent*Name\n                            \n                                                    \n                          Dr.MissMr.Mrs.Ms.Mx.Prof.Rev.\n                      \n                                                    Prefix\n                                                  \n                            \n                                                    \n                                                    First\n                                                \n                            \n                            \n                                                    \n                                                    Last\n                                                \n                            \n                                                    \n                                                    Suffix\n                                                \n                        Title/PositionEmail*\n                            \n                        School District*Address    \n                    \n                         \n                                        \n                                        Street Address\n                                    \n                                    \n                                    City\n                                 \n                                        AlabamaAlaskaAmerican SamoaArizonaArkansasCaliforniaColoradoConnecticutDelawareDistrict of ColumbiaFloridaGeorgiaGuamHawaiiIdahoIllinoisIndianaIowaKansasKentuckyLouisianaMaineMarylandMassachusettsMichiganMinnesotaMississippiMissouriMontanaNebraskaNevadaNew HampshireNew JerseyNew MexicoNew YorkNorth CarolinaNorth DakotaNorthern Mariana IslandsOhioOklahomaOregonPennsylvaniaPuerto RicoRhode IslandSouth CarolinaSouth DakotaTennesseeTexasUtahU.S. Virgin IslandsVermontVirginiaWashingtonWest VirginiaWisconsinWyomingArmed Forces AmericasArmed Forces EuropeArmed Forces Pacific\n                                        State\n                                      \n                                    \n                                    ZIP Code\n                                \n                    \n                County*Select your CountyAdamsAllenAshlandAshtabulaAthensAuglaizeBelmontBrownButlerCarrollChampaignClarkClermontClintonColumbianaCoshoctonCrawfordCuyahogaDarkeDefianceDelawareErieFairfieldFayetteFranklinFultonGalliaGeaugaGreeneGuernseyHamiltonHancockHardinHarrisonHenryHighlandHockingHolmesHuronJacksonJeffersonKnoxLakeLawrenceLickingLoganLorainLucasMadisonMahoningMarionMedinaMeigsMercerMiamiMonroeMontgomeryMorganMorrowMuskingumNobleOttawaPauldingPerryPickawayPikePortagePreblePutnamRichlandRossSanduskySciotoSenecaShelbyStarkSummitTrumbullTuscarawasUnionVan WertVintonWarrenWashingtonWayneWilliamsWoodWyandotOtherSupreme Court ID (If Applicable)Special Accomodations?Enter any special accommodations below.STEP 2 OF 3 - Add AttendeesClick "Add Attendee" below to add your list of attendees for the event.Attendees\n\n	\n\n		\n		\n							\n					Name on Badge				\n							\n					Attendee Email				\n							\n					Title/Position				\n							\n					Seminar Location				\n							\n					Selected Meal				\n						Actions\n		\n		\n\n		\n		\n							 \n							 \n							 \n							 \n							 \n						\n				\n					Edit\n										Delete\n				\n			\n		\n		\n\n		\n		\n			\n				There are no Attendees.			\n		\n		\n\n	\n\n	\n				Add Attendee\n				\n			\n				Maximum number of attendees reached.\n			 \n\nSTEP 3 OF 3 - RegisterEnter your email and select the payment method to complete the registration.Total Attendees*Product Name\n					\n					\n						Price:\n						$0.00\n					\n					\n					\n				NOTE: 2 Free Ticket Discount AppliedYou have not entered any attendees. Please click "Add Attendee" above to submit this registration. CAPTCHA
URL:https://pepple-waggoner.com/event/school-negotiations-workshops-january-25-2024-holiday-inn-independence/
CATEGORIES:Seminar
END:VEVENT
END:VCALENDAR